BEGIN:VCALENDAR
VERSION:2.0
PRODID:-//Beratungscafé - ECPv6.15.20//NONSGML v1.0//EN
CALSCALE:GREGORIAN
METHOD:PUBLISH
X-ORIGINAL-URL:https://bafoeg-bielefeld.de
X-WR-CALDESC:Veranstaltungen für Beratungscafé
REFRESH-INTERVAL;VALUE=DURATION:PT1H
X-Robots-Tag:noindex
X-PUBLISHED-TTL:PT1H
BEGIN:VTIMEZONE
TZID:Europe/Berlin
BEGIN:DAYLIGHT
TZOFFSETFROM:+0100
TZOFFSETTO:+0200
TZNAME:CEST
DTSTART:20240331T010000
END:DAYLIGHT
BEGIN:STANDARD
TZOFFSETFROM:+0200
TZOFFSETTO:+0100
TZNAME:CET
DTSTART:20241027T010000
END:STANDARD
BEGIN:DAYLIGHT
TZOFFSETFROM:+0100
TZOFFSETTO:+0200
TZNAME:CEST
DTSTART:20250330T010000
END:DAYLIGHT
BEGIN:STANDARD
TZOFFSETFROM:+0200
TZOFFSETTO:+0100
TZNAME:CET
DTSTART:20251026T010000
END:STANDARD
BEGIN:DAYLIGHT
TZOFFSETFROM:+0100
TZOFFSETTO:+0200
TZNAME:CEST
DTSTART:20260329T010000
END:DAYLIGHT
BEGIN:STANDARD
TZOFFSETFROM:+0200
TZOFFSETTO:+0100
TZNAME:CET
DTSTART:20261025T010000
END:STANDARD
END:VTIMEZONE
BEGIN:VEVENT
DTSTART;TZID=Europe/Berlin:20251029T093000
DTEND;TZID=Europe/Berlin:20251029T141500
DTSTAMP:20260419T171800
CREATED:20251014T123843Z
LAST-MODIFIED:20251014T140215Z
UID:657-1761730200-1761747300@bafoeg-bielefeld.de
SUMMARY:Stipendien-Infotag WiSe 25/26
DESCRIPTION:Eine Möglichkeit der Studienfinanzierung sind Stipendien.\nWolltet ihr immer schon mal wissen\, wie ihr ein Stipendium beantragen könnt oder welche Voraussetzungen ihr erfüllen müsst? Möchtet ihr die verschiedenen Stiftungen kennenlernen oder euch mit StipendiatInnen austauschen? \nDann kommt gerne am Stipendien-Infotag der Uni Bielefeld vorbei! \nFür internationale Studierende gibt es einen Infostand vom International Office der Uni Bielefeld. \nDie Studienfinanzierungsberatung vom AStA ist ebenfalls vertreten und beantwortet allgemeine Fragen rund um das Thema Studienfinanzierung.
URL:https://bafoeg-bielefeld.de/event/stipendien-infotag-wise-25-26/
CATEGORIES:Infostand
ATTACH;FMTTYPE=image/png:https://bafoeg-bielefeld.de/wp-content/uploads/2025/08/Infostand.png
END:VEVENT
END:VCALENDAR