BEGIN:VCALENDAR
VERSION:2.0
PRODID:-//Beratungscafé - ECPv6.15.20//NONSGML v1.0//EN
CALSCALE:GREGORIAN
METHOD:PUBLISH
X-ORIGINAL-URL:https://bafoeg-bielefeld.de
X-WR-CALDESC:Veranstaltungen für Beratungscafé
REFRESH-INTERVAL;VALUE=DURATION:PT1H
X-Robots-Tag:noindex
X-PUBLISHED-TTL:PT1H
BEGIN:VTIMEZONE
TZID:Europe/Berlin
BEGIN:DAYLIGHT
TZOFFSETFROM:+0100
TZOFFSETTO:+0200
TZNAME:CEST
DTSTART:20240331T010000
END:DAYLIGHT
BEGIN:STANDARD
TZOFFSETFROM:+0200
TZOFFSETTO:+0100
TZNAME:CET
DTSTART:20241027T010000
END:STANDARD
BEGIN:DAYLIGHT
TZOFFSETFROM:+0100
TZOFFSETTO:+0200
TZNAME:CEST
DTSTART:20250330T010000
END:DAYLIGHT
BEGIN:STANDARD
TZOFFSETFROM:+0200
TZOFFSETTO:+0100
TZNAME:CET
DTSTART:20251026T010000
END:STANDARD
BEGIN:DAYLIGHT
TZOFFSETFROM:+0100
TZOFFSETTO:+0200
TZNAME:CEST
DTSTART:20260329T010000
END:DAYLIGHT
BEGIN:STANDARD
TZOFFSETFROM:+0200
TZOFFSETTO:+0100
TZNAME:CET
DTSTART:20261025T010000
END:STANDARD
END:VTIMEZONE
BEGIN:VEVENT
DTSTART;VALUE=DATE:20251006
DTEND;VALUE=DATE:20251018
DTSTAMP:20260419T184922
CREATED:20250820T103623Z
LAST-MODIFIED:20260213T102129Z
UID:263-1759708800-1760745599@bafoeg-bielefeld.de
SUMMARY:Infostand "Semesterstart"
DESCRIPTION:Wir haben für die ersten zwei Vorlesungswochen wieder einen Infostand in der Unihalle\, gegenüber vom „Eddy“.\nHier gibt es Formblätter für Erst- und Folgeanträge und jede Menge Infomaterial zur Studienstarthilfe\, zum Flexibilitätssemester und zu weiteren Finanzierungsmöglichkeiten durch Wohngeld\, Stipendien und Kredite und Darlehen. \nKommt vorbei und nehmt euch mit\, was ihr braucht! \n  \nAm 15. Oktober sind wir auch beim „Welcome Back am Campus„-Tag vor dem Audimax dabei.\nDann habt ihr auch die Gelegenheit\, uns persönlich anzutreffen und direkt vor Ort Fragen zu stellen. \n  \nMaskottchen Luigi
URL:https://bafoeg-bielefeld.de/event/infostand-semesterstart-wise-25-26/
CATEGORIES:Infostand
ATTACH;FMTTYPE=image/png:https://bafoeg-bielefeld.de/wp-content/uploads/2025/08/Infostand.png
END:VEVENT
END:VCALENDAR